BEGIN:VCALENDAR
VERSION:2.0
PRODID:-//Winston Knolls Civic Association - ECPv6.15.20//NONSGML v1.0//EN
CALSCALE:GREGORIAN
METHOD:PUBLISH
X-ORIGINAL-URL:https://wknolls.net
X-WR-CALDESC:Events for Winston Knolls Civic Association
REFRESH-INTERVAL;VALUE=DURATION:PT1H
X-Robots-Tag:noindex
X-PUBLISHED-TTL:PT1H
BEGIN:VTIMEZONE
TZID:UTC
BEGIN:STANDARD
TZOFFSETFROM:+0000
TZOFFSETTO:+0000
TZNAME:UTC
DTSTART:20170101T000000
END:STANDARD
END:VTIMEZONE
BEGIN:VEVENT
DTSTART;VALUE=DATE:20180305
DTEND;VALUE=DATE:20180306
DTSTAMP:20260426T023910
CREATED:20180211T221437Z
LAST-MODIFIED:20180211T221721Z
UID:174-1520208000-1520294399@wknolls.net
SUMMARY:Annual Membership Drive Starts
DESCRIPTION:
URL:https://wknolls.net/event/annual-membership-drive-starts/
END:VEVENT
END:VCALENDAR