BEGIN:VCALENDAR
VERSION:2.0
PRODID:-//Winston Knolls Civic Association - ECPv6.15.20//NONSGML v1.0//EN
CALSCALE:GREGORIAN
METHOD:PUBLISH
X-WR-CALNAME:Winston Knolls Civic Association
X-ORIGINAL-URL:https://wknolls.net
X-WR-CALDESC:Events for Winston Knolls Civic Association
REFRESH-INTERVAL;VALUE=DURATION:PT1H
X-Robots-Tag:noindex
X-PUBLISHED-TTL:PT1H
BEGIN:VTIMEZONE
TZID:UTC
BEGIN:STANDARD
TZOFFSETFROM:+0000
TZOFFSETTO:+0000
TZNAME:UTC
DTSTART:20170101T000000
END:STANDARD
END:VTIMEZONE
BEGIN:VEVENT
DTSTART;TZID=UTC:20180505T080000
DTEND;TZID=UTC:20180505T140000
DTSTAMP:20260425T232524
CREATED:20180214T011328Z
LAST-MODIFIED:20180214T011531Z
UID:186-1525507200-1525528800@wknolls.net
SUMMARY:WKCA and OHECA Community Yard Sale
DESCRIPTION:
URL:https://wknolls.net/event/wkca-ans-oheca-community-yard-sale/
END:VEVENT
BEGIN:VEVENT
DTSTART;TZID=UTC:20180512T080000
DTEND;TZID=UTC:20180512T130000
DTSTAMP:20260425T232524
CREATED:20180214T011813Z
LAST-MODIFIED:20180214T011813Z
UID:192-1526112000-1526130000@wknolls.net
SUMMARY:WKCA and OHECA Large Pick-Up and Shred at OHES
DESCRIPTION:
URL:https://wknolls.net/event/wkca-and-oheca-large-pick-up-and-shred-at-ohes/
END:VEVENT
END:VCALENDAR