BEGIN:VCALENDAR
VERSION:2.0
PRODID:-//Winston Knolls Civic Association - ECPv6.15.20//NONSGML v1.0//EN
CALSCALE:GREGORIAN
METHOD:PUBLISH
X-ORIGINAL-URL:https://wknolls.net
X-WR-CALDESC:Events for Winston Knolls Civic Association
REFRESH-INTERVAL;VALUE=DURATION:PT1H
X-Robots-Tag:noindex
X-PUBLISHED-TTL:PT1H
BEGIN:VTIMEZONE
TZID:UTC
BEGIN:STANDARD
TZOFFSETFROM:+0000
TZOFFSETTO:+0000
TZNAME:UTC
DTSTART:20170101T000000
END:STANDARD
END:VTIMEZONE
BEGIN:VEVENT
DTSTART;TZID=UTC:20180704T000000
DTEND;TZID=UTC:20180704T000000
DTSTAMP:20260425T201024
CREATED:20180206T013428Z
LAST-MODIFIED:20180624T204526Z
UID:163-1530662400-1530662400@wknolls.net
SUMMARY:The Winston knolls/Orange Hunt 4th July Parade and ice cream social is "Cancelled "
DESCRIPTION:Unfortunately\, due to a new requirement by the Fairfax County Police Dept. we are unable to hold the 4th of July parade this year. We are working with the FCPD to resolve this issue and ensure that we will be able to hold the parade next year. 
URL:https://wknolls.net/event/163/
END:VEVENT
END:VCALENDAR